BEGIN:VCALENDAR
VERSION:2.0
PRODID:-//Gävle City - ECPv5.10.0//NONSGML v1.0//EN
CALSCALE:GREGORIAN
METHOD:PUBLISH
X-WR-CALNAME:Gävle City
X-ORIGINAL-URL:https://gavlecity.se
X-WR-CALDESC:Händelser för Gävle City
BEGIN:VTIMEZONE
TZID:Europe/Stockholm
BEGIN:DAYLIGHT
TZOFFSETFROM:+0100
TZOFFSETTO:+0200
TZNAME:CEST
DTSTART:20260329T010000
END:DAYLIGHT
BEGIN:STANDARD
TZOFFSETFROM:+0200
TZOFFSETTO:+0100
TZNAME:CET
DTSTART:20261025T010000
END:STANDARD
END:VTIMEZONE
BEGIN:VEVENT
DTSTART;TZID=Europe/Stockholm:20260330T160000
DTEND;TZID=Europe/Stockholm:20260401T170000
DTSTAMP:20260425T223749
CREATED:20260309T140508Z
LAST-MODIFIED:20260323T084804Z
UID:20889-1774886400-1775062800@gavlecity.se
SUMMARY:Den stora äggjakten 2026!
DESCRIPTION:Mer info kommer!
URL:https://gavlecity.se/event/den-stora-aggjakten-2026/
LOCATION:Gävle City
CATEGORIES:Besök,Ditt City
ATTACH;FMTTYPE=image/png:https://gavlecity.se/wp-content/uploads/2026/03/Hemsidan_Eventbild-1.png
END:VEVENT
END:VCALENDAR