BEGIN:VCALENDAR
VERSION:2.0
PRODID:-//Gävle City - ECPv5.10.0//NONSGML v1.0//EN
CALSCALE:GREGORIAN
METHOD:PUBLISH
X-WR-CALNAME:Gävle City
X-ORIGINAL-URL:https://gavlecity.se
X-WR-CALDESC:Händelser för Gävle City
BEGIN:VTIMEZONE
TZID:Europe/Stockholm
BEGIN:DAYLIGHT
TZOFFSETFROM:+0100
TZOFFSETTO:+0200
TZNAME:CEST
DTSTART:20260329T010000
END:DAYLIGHT
BEGIN:STANDARD
TZOFFSETFROM:+0200
TZOFFSETTO:+0100
TZNAME:CET
DTSTART:20261025T010000
END:STANDARD
END:VTIMEZONE
BEGIN:VEVENT
DTSTART;TZID=Europe/Stockholm:20260402T130000
DTEND;TZID=Europe/Stockholm:20260402T143000
DTSTAMP:20260425T222829
CREATED:20260309T135607Z
LAST-MODIFIED:20260309T135607Z
UID:20887-1775134800-1775140200@gavlecity.se
SUMMARY:Guidad visning av 2026 års konstägg!🥚
DESCRIPTION:🎨 Guidad visning av 2026 års konstägg i Gävle City \n  \nUnder påsken fylls Gävle City av färg\, kreativitet och lokal konst när fem stora konstägg ställs ut runt om i stadskärnan. Nu har du chansen att uppleva dem tillsammans med oss under en guidad visning! \nFölj med på en inspirerande promenad där vi besöker de fem äggen längs Drottninggatan\, vid Länsmuseet och i Slottsparken. Under turen berättar vi om konstnärerna\, deras idéer och hur de tolkat årets tema. \nDet blir en unik möjlighet att komma närmare konsten\, höra historierna bakom verken och upptäcka City på ett nytt sätt. Snart släpper vi årets tema! \n📍 Samling: Vid Gudinnan \n🕒 Tid & datum: 13:00\, 2/4-2026 \n🎟 Visningen är kostnadsfri. \n  \nTa med familj\, vänner eller kollegor och följ med på en färgstark konstpromenad genom City under påsken. \nVarmt välkommen!
URL:https://gavlecity.se/event/guidad-visning-av-2026-ars-konstagg%f0%9f%a5%9a/
LOCATION:Gävle City\, Rådhustorget\, United States
CATEGORIES:Besök,Ditt City
ATTACH;FMTTYPE=image/png:https://gavlecity.se/wp-content/uploads/2026/03/Hemsidan_Eventbild.png
END:VEVENT
END:VCALENDAR