BEGIN:VCALENDAR
VERSION:2.0
PRODID:-//Gävle City - ECPv5.10.0//NONSGML v1.0//EN
CALSCALE:GREGORIAN
METHOD:PUBLISH
X-WR-CALNAME:Gävle City
X-ORIGINAL-URL:https://gavlecity.se
X-WR-CALDESC:Händelser för Gävle City
BEGIN:VTIMEZONE
TZID:Europe/Stockholm
BEGIN:DAYLIGHT
TZOFFSETFROM:+0100
TZOFFSETTO:+0200
TZNAME:CEST
DTSTART:20260329T010000
END:DAYLIGHT
BEGIN:STANDARD
TZOFFSETFROM:+0200
TZOFFSETTO:+0100
TZNAME:CET
DTSTART:20261025T010000
END:STANDARD
END:VTIMEZONE
BEGIN:VEVENT
DTSTART;TZID=Europe/Stockholm:20260214T120000
DTEND;TZID=Europe/Stockholm:20260214T143000
DTSTAMP:20260426T003714
CREATED:20260211T123525Z
LAST-MODIFIED:20260211T123525Z
UID:20838-1771070400-1771079400@gavlecity.se
SUMMARY:SKAPARLÖRDAG PÅ AGNES
DESCRIPTION:Valentindagen eller Alla hjärtans dag firas alltid 14 februari. Skapa ett eget kort att ge till någon du gillar. Skapa i papper – vi har material på plats. För alla åldrar. \n  \nPlats: Agnes Kulturhus\, plan 3 \nTid: 12:00-14:30
URL:https://gavlecity.se/event/skaparlordag-pa-agnes/
LOCATION:Agnes Kulturhus\, Slottstorget 1\, Gävle\, 80250
CATEGORIES:Besök
ATTACH;FMTTYPE=image/png:https://gavlecity.se/wp-content/uploads/2026/02/Hemsidan_Eventbild-1.png
END:VEVENT
END:VCALENDAR